BEGIN:VCALENDAR
VERSION:2.0
PRODID:-//Okresní sdružení hasičů Jičín - ECPv6.3.2//NONSGML v1.0//EN
CALSCALE:GREGORIAN
METHOD:PUBLISH
X-ORIGINAL-URL:https://oshjicin.cz
X-WR-CALDESC:Akce na Okresní sdružení hasičů Jičín
REFRESH-INTERVAL;VALUE=DURATION:PT1H
X-Robots-Tag:noindex
X-PUBLISHED-TTL:PT1H
BEGIN:VTIMEZONE
TZID:Europe/Prague
BEGIN:DAYLIGHT
TZOFFSETFROM:+0100
TZOFFSETTO:+0200
TZNAME:CEST
DTSTART:20260329T010000
END:DAYLIGHT
BEGIN:STANDARD
TZOFFSETFROM:+0200
TZOFFSETTO:+0100
TZNAME:CET
DTSTART:20261025T010000
END:STANDARD
END:VTIMEZONE
BEGIN:VEVENT
DTSTART;TZID=Europe/Prague:20260516T130000
DTEND;TZID=Europe/Prague:20260516T200000
DTSTAMP:20260422T112035
CREATED:20260413T094857Z
LAST-MODIFIED:20260413T104524Z
UID:4782-1778936400-1778961600@oshjicin.cz
SUMMARY:Okrsková soutěž a oslavy 130let SDH Hlásná Lhota - okrsek Podhradí
DESCRIPTION:
URL:https://oshjicin.cz/udalost/okrskova-soutez-hlasna-lhota-okrsek-podhradi/
END:VEVENT
BEGIN:VEVENT
DTSTART;TZID=Europe/Prague:20260516T130000
DTEND;TZID=Europe/Prague:20260516T200000
DTSTAMP:20260422T112035
CREATED:20260413T095017Z
LAST-MODIFIED:20260413T095017Z
UID:4786-1778936400-1778961600@oshjicin.cz
SUMMARY:Okrsková soutěž - Cidlina - okrsek Železnice
DESCRIPTION:
URL:https://oshjicin.cz/udalost/okrskova-soutez-cidlina-okrsek-zeleznice/
END:VEVENT
BEGIN:VEVENT
DTSTART;TZID=Europe/Prague:20260516T130000
DTEND;TZID=Europe/Prague:20260516T200000
DTSTAMP:20260422T112035
CREATED:20260413T095100Z
LAST-MODIFIED:20260413T095100Z
UID:4788-1778936400-1778961600@oshjicin.cz
SUMMARY:Okrsková soutěž - Úbislavice - okrsek Úbislavice
DESCRIPTION:
URL:https://oshjicin.cz/udalost/okrskova-soutez-ubislavice-okrsek-ubislavice/
END:VEVENT
BEGIN:VEVENT
DTSTART;TZID=Europe/Prague:20260516T130000
DTEND;TZID=Europe/Prague:20260516T200000
DTSTAMP:20260422T112035
CREATED:20260413T095228Z
LAST-MODIFIED:20260413T095228Z
UID:4792-1778936400-1778961600@oshjicin.cz
SUMMARY:Okrsková soutěž - Vidochov - okrsek Pecka
DESCRIPTION:
URL:https://oshjicin.cz/udalost/okrskova-soutez-vidochov-okrsek-pecka/
END:VEVENT
BEGIN:VEVENT
DTSTART;TZID=Europe/Prague:20260516T130000
DTEND;TZID=Europe/Prague:20260516T200000
DTSTAMP:20260422T112035
CREATED:20260413T095432Z
LAST-MODIFIED:20260413T095432Z
UID:4798-1778936400-1778961600@oshjicin.cz
SUMMARY:Okrsková soutěž - Kozojedy - okrsek Žlunice
DESCRIPTION:
URL:https://oshjicin.cz/udalost/okrskova-soutez-kozojedy-okrsek-zlunice/
END:VEVENT
BEGIN:VEVENT
DTSTART;TZID=Europe/Prague:20260516T130000
DTEND;TZID=Europe/Prague:20260516T200000
DTSTAMP:20260422T112035
CREATED:20260413T095506Z
LAST-MODIFIED:20260413T095506Z
UID:4800-1778936400-1778961600@oshjicin.cz
SUMMARY:Okrsková soutěž - Bašnice - okrsek Hořice
DESCRIPTION:
URL:https://oshjicin.cz/udalost/okrskova-soutez-basnice-okrsek-horice/
END:VEVENT
BEGIN:VEVENT
DTSTART;TZID=Europe/Prague:20260517T130000
DTEND;TZID=Europe/Prague:20260517T200000
DTSTAMP:20260422T112035
CREATED:20260413T094937Z
LAST-MODIFIED:20260413T094937Z
UID:4784-1779022800-1779048000@oshjicin.cz
SUMMARY:Okrsková soutěž - Robousy - okrsek Jičín
DESCRIPTION:
URL:https://oshjicin.cz/udalost/okrskova-soutez-robousy-okrsek-jicin/
END:VEVENT
BEGIN:VEVENT
DTSTART;TZID=Europe/Prague:20260523T130000
DTEND;TZID=Europe/Prague:20260523T200000
DTSTAMP:20260422T112035
CREATED:20260413T095146Z
LAST-MODIFIED:20260413T095146Z
UID:4790-1779541200-1779566400@oshjicin.cz
SUMMARY:Okrsková soutěž - okrsek Stará Paka
DESCRIPTION:
URL:https://oshjicin.cz/udalost/okrskova-soutez-okrsek-stara-paka/
END:VEVENT
BEGIN:VEVENT
DTSTART;TZID=Europe/Prague:20260523T130000
DTEND;TZID=Europe/Prague:20260523T200000
DTSTAMP:20260422T112035
CREATED:20260413T095309Z
LAST-MODIFIED:20260413T095309Z
UID:4794-1779541200-1779566400@oshjicin.cz
SUMMARY:Okrsková soutěž - Lány - okrsek Lázně Bělohrad
DESCRIPTION:
URL:https://oshjicin.cz/udalost/okrskova-soutez-lany-okrsek-lazne-belohrad/
END:VEVENT
BEGIN:VEVENT
DTSTART;TZID=Europe/Prague:20260529T080000
DTEND;TZID=Europe/Prague:20260531T170000
DTSTAMP:20260422T112035
CREATED:20251106T061126Z
LAST-MODIFIED:20251106T061126Z
UID:4407-1780041600-1780246800@oshjicin.cz
SUMMARY:Okresní kolo Plamene a dorostu
DESCRIPTION:místo konání: Radim \n 
URL:https://oshjicin.cz/udalost/okresni-kolo-plamene-a-dorostu/
END:VEVENT
BEGIN:VEVENT
DTSTART;TZID=Europe/Prague:20260530T130000
DTEND;TZID=Europe/Prague:20260530T200000
DTSTAMP:20260422T112035
CREATED:20260413T095355Z
LAST-MODIFIED:20260413T095355Z
UID:4796-1780146000-1780171200@oshjicin.cz
SUMMARY:Okrsková soutěž - Choteč - okrsek Mlázovice
DESCRIPTION:
URL:https://oshjicin.cz/udalost/okrskova-soutez-chotec-okrsek-mlazovice/
END:VEVENT
BEGIN:VEVENT
DTSTART;VALUE=DATE:20260606
DTEND;VALUE=DATE:20260607
DTSTAMP:20260422T112035
CREATED:20240201T084715Z
LAST-MODIFIED:20260113T074417Z
UID:2943-1780704000-1780790399@oshjicin.cz
SUMMARY:Netradiční soutěž Staré Smrkovice
DESCRIPTION:pro družstva mužů a žen
URL:https://oshjicin.cz/udalost/netradicni-soutez-stare-smrkovice/
END:VEVENT
BEGIN:VEVENT
DTSTART;TZID=Europe/Prague:20260606T080000
DTEND;TZID=Europe/Prague:20260606T170000
DTSTAMP:20260422T112035
CREATED:20250203T095559Z
LAST-MODIFIED:20260209T121944Z
UID:3848-1780732800-1780765200@oshjicin.cz
SUMMARY:Dětský superpohár - Březina
DESCRIPTION:soutěž je pořádaná v samotné požárním útoku a jednoduché štafetě \nsoutěž je vyhlášena ve všech dětských kategoriích\, tedy pro Přípravku\, Mladší a Starší děti \nVýsledky jednotlivých soutěží jsou započítávány do celkového pořadí a na poslední soutěži jsou i vyhlášeny celkové výsledky za celý ročník DS. \n 
URL:https://oshjicin.cz/udalost/detsky-superpohar-brezina/
END:VEVENT
BEGIN:VEVENT
DTSTART;TZID=Europe/Prague:20260607T080000
DTEND;TZID=Europe/Prague:20260607T170000
DTSTAMP:20260422T112035
CREATED:20251106T061435Z
LAST-MODIFIED:20251106T061435Z
UID:4411-1780819200-1780851600@oshjicin.cz
SUMMARY:Okresní kolo PS
DESCRIPTION:místo konání: Nová Paka
URL:https://oshjicin.cz/udalost/okresni-kolo-ps-2/
END:VEVENT
BEGIN:VEVENT
DTSTART;VALUE=DATE:20260613
DTEND;VALUE=DATE:20260614
DTSTAMP:20260422T112035
CREATED:20250109T092431Z
LAST-MODIFIED:20260415T120328Z
UID:3749-1781308800-1781395199@oshjicin.cz
SUMMARY:Pohárová soutěž Vidochov
DESCRIPTION:O pohár starosty OSH \nsoutěž v požárním útoku na 2B \nkategorie: muži\, ženy\, veteráni \nzačátek v 9:00 hod
URL:https://oshjicin.cz/udalost/o-pohar-starosty-osh-jicin-vidochov/
END:VEVENT
BEGIN:VEVENT
DTSTART;VALUE=DATE:20260613
DTEND;VALUE=DATE:20260614
DTSTAMP:20260422T112035
CREATED:20260413T102951Z
LAST-MODIFIED:20260413T102951Z
UID:4827-1781308800-1781395199@oshjicin.cz
SUMMARY:Oslavy 130let SDH Úbislavice
DESCRIPTION:
URL:https://oshjicin.cz/udalost/oslavy-130let-sdh-ubislavice/
END:VEVENT
BEGIN:VEVENT
DTSTART;TZID=Europe/Prague:20260613T080000
DTEND;TZID=Europe/Prague:20260613T170000
DTSTAMP:20260422T112035
CREATED:20250203T095719Z
LAST-MODIFIED:20260209T122017Z
UID:3850-1781337600-1781370000@oshjicin.cz
SUMMARY:Dětský superpohár - Svijany
DESCRIPTION:soutěž je pořádaná v samotné požárním útoku a jednoduché štafetě \nsoutěž je vyhlášena ve všech dětských kategoriích\, tedy pro Přípravku\, Mladší a Starší děti. \nVýsledky jednotlivých soutěží jsou započítávány do celkového pořadí a na poslední soutěži jsou i vyhlášeny celkové výsledky za celý ročník DS. \n 
URL:https://oshjicin.cz/udalost/detsky-superpohar-svijany/
END:VEVENT
BEGIN:VEVENT
DTSTART;TZID=Europe/Prague:20260613T080000
DTEND;TZID=Europe/Prague:20260613T170000
DTSTAMP:20260422T112035
CREATED:20251106T061614Z
LAST-MODIFIED:20251106T061614Z
UID:4413-1781337600-1781370000@oshjicin.cz
SUMMARY:Krajské kolo Plamen
DESCRIPTION:místo konání: Dobruška
URL:https://oshjicin.cz/udalost/krajske-kolo-plamen/
END:VEVENT
BEGIN:VEVENT
DTSTART;TZID=Europe/Prague:20260613T170000
DTEND;TZID=Europe/Prague:20260613T230000
DTSTAMP:20260422T112035
CREATED:20240201T090006Z
LAST-MODIFIED:20260113T075352Z
UID:2954-1781370000-1781391600@oshjicin.cz
SUMMARY:Nevratická Bludička
DESCRIPTION:noční soutěž od 17hod \nkategorie: MH a dorost \n 
URL:https://oshjicin.cz/udalost/nevraticka-bludicka-2/
END:VEVENT
BEGIN:VEVENT
DTSTART;TZID=Europe/Prague:20260614T080000
DTEND;TZID=Europe/Prague:20260614T170000
DTSTAMP:20260422T112035
CREATED:20251106T061727Z
LAST-MODIFIED:20251106T061727Z
UID:4415-1781424000-1781456400@oshjicin.cz
SUMMARY:Krajské kolo Dorost
DESCRIPTION:místo konání: Dobruška
URL:https://oshjicin.cz/udalost/krajske-kolo-dorost/
END:VEVENT
BEGIN:VEVENT
DTSTART;TZID=Europe/Prague:20260620T080000
DTEND;TZID=Europe/Prague:20260620T170000
DTSTAMP:20260422T112035
CREATED:20250203T095808Z
LAST-MODIFIED:20260209T122044Z
UID:3852-1781942400-1781974800@oshjicin.cz
SUMMARY:Dětský superpohár - Ploukovice
DESCRIPTION:soutěž je pořádaná v samotné požárním útoku a jednoduché štafetě \nsoutěž je vyhlášena ve všech dětských kategoriích\, tedy pro Přípravku\, Mladší a Starší děti. \nVýsledky jednotlivých soutěží jsou započítávány do celkového pořadí a na poslední soutěži jsou i vyhlášeny celkové výsledky za celý ročník DS.
URL:https://oshjicin.cz/udalost/detsky-superpohar-ploukovice/
END:VEVENT
BEGIN:VEVENT
DTSTART;TZID=Europe/Prague:20260620T080000
DTEND;TZID=Europe/Prague:20260620T170000
DTSTAMP:20260422T112035
CREATED:20251106T061830Z
LAST-MODIFIED:20251106T061830Z
UID:4417-1781942400-1781974800@oshjicin.cz
SUMMARY:Krajské kolo PS
DESCRIPTION:místo konání: Hradec Králové
URL:https://oshjicin.cz/udalost/krajske-kolo-ps-2/
END:VEVENT
BEGIN:VEVENT
DTSTART;TZID=Europe/Prague:20260620T080000
DTEND;TZID=Europe/Prague:20260621T170000
DTSTAMP:20260422T112035
CREATED:20260413T100416Z
LAST-MODIFIED:20260413T100416Z
UID:4807-1781942400-1782061200@oshjicin.cz
SUMMARY:Mistrovství ČR Plamen - Svitavy
DESCRIPTION:
URL:https://oshjicin.cz/udalost/mistrovstvi-cr-plamen-svitavy/
END:VEVENT
BEGIN:VEVENT
DTSTART;TZID=Europe/Prague:20260620T090000
DTEND;TZID=Europe/Prague:20260620T170000
DTSTAMP:20260422T112035
CREATED:20240201T102516Z
LAST-MODIFIED:20260413T055252Z
UID:2967-1781946000-1781974800@oshjicin.cz
SUMMARY:O nejtvrdší Hořickou trubičku TFA
DESCRIPTION:Hořice \nupravená pravidla TFA \nkategorie: muži\, ženy\, dorost
URL:https://oshjicin.cz/udalost/o-nejtvrdsi-horickou-trubicku-tfa/
END:VEVENT
BEGIN:VEVENT
DTSTART;TZID=Europe/Prague:20260627T080000
DTEND;TZID=Europe/Prague:20260627T170000
DTSTAMP:20260422T112035
CREATED:20250203T095853Z
LAST-MODIFIED:20260209T122121Z
UID:3854-1782547200-1782579600@oshjicin.cz
SUMMARY:Dětský superpohár - Žehrov
DESCRIPTION:soutěž je pořádaná v samotné požárním útoku a jednoduché štafetě \nsoutěž je vyhlášena ve všech dětských kategoriích\, tedy pro Přípravku\, Mladší a Starší děti i DOROST \nVýsledky jednotlivých soutěží jsou započítávány do celkového pořadí a na poslední soutěži jsou i vyhlášeny celkové výsledky za celý ročník DS. \n 
URL:https://oshjicin.cz/udalost/detsky-superpohar-zehrov/
END:VEVENT
BEGIN:VEVENT
DTSTART;TZID=Europe/Prague:20260627T080000
DTEND;TZID=Europe/Prague:20260627T170000
DTSTAMP:20260422T112035
CREATED:20250203T100249Z
LAST-MODIFIED:20260209T122417Z
UID:3862-1782547200-1782579600@oshjicin.cz
SUMMARY:Noční dětská soutěž - Žehrov
DESCRIPTION:soutěž pouze v požárním útoku pro kategorie přípravka\, mladší a starší děti \n  \n 
URL:https://oshjicin.cz/udalost/nocni-sputez-zehrov/
END:VEVENT
BEGIN:VEVENT
DTSTART;TZID=Europe/Prague:20260627T080000
DTEND;TZID=Europe/Prague:20260629T170000
DTSTAMP:20260422T112035
CREATED:20260413T100542Z
LAST-MODIFIED:20260413T100542Z
UID:4809-1782547200-1782752400@oshjicin.cz
SUMMARY:Mistrovství ČR Dorostu - Liberecký kraj
DESCRIPTION:
URL:https://oshjicin.cz/udalost/mistrovstvi-cr-dorostu-liberecky-kraj/
END:VEVENT
BEGIN:VEVENT
DTSTART;TZID=Europe/Prague:20260627T090000
DTEND;TZID=Europe/Prague:20260627T170000
DTSTAMP:20260422T112035
CREATED:20240201T085827Z
LAST-MODIFIED:20260113T075427Z
UID:2952-1782550800-1782579600@oshjicin.cz
SUMMARY:Dětská soutěž Holovousy
DESCRIPTION:opravená pravidla hra Plamen
URL:https://oshjicin.cz/udalost/detska-soutez-holovousy-2/
END:VEVENT
BEGIN:VEVENT
DTSTART;TZID=Europe/Prague:20260628T080000
DTEND;TZID=Europe/Prague:20260628T170000
DTSTAMP:20260422T112035
CREATED:20260413T100325Z
LAST-MODIFIED:20260413T100325Z
UID:4805-1782633600-1782666000@oshjicin.cz
SUMMARY:KK TFA Žernov
DESCRIPTION:
URL:https://oshjicin.cz/udalost/kk-tfa-zernov/
END:VEVENT
BEGIN:VEVENT
DTSTART;TZID=Europe/Prague:20260711T080000
DTEND;TZID=Europe/Prague:20260711T170000
DTSTAMP:20260422T112035
CREATED:20240201T102658Z
LAST-MODIFIED:20260113T075303Z
UID:2969-1783756800-1783789200@oshjicin.cz
SUMMARY:Kozodírský výstřik
DESCRIPTION:Kozodírky \nupravená pravidla PS \nkategorie: muži\, ženy\, MH a dorost
URL:https://oshjicin.cz/udalost/mistni-soutez-kozodirky-liban/
END:VEVENT
END:VCALENDAR