BEGIN:VCALENDAR
VERSION:2.0
PRODID:-//Okresní sdružení hasičů Jičín - ECPv6.3.2//NONSGML v1.0//EN
CALSCALE:GREGORIAN
METHOD:PUBLISH
X-ORIGINAL-URL:https://oshjicin.cz
X-WR-CALDESC:Akce na Okresní sdružení hasičů Jičín
REFRESH-INTERVAL;VALUE=DURATION:PT1H
X-Robots-Tag:noindex
X-PUBLISHED-TTL:PT1H
BEGIN:VTIMEZONE
TZID:Europe/Prague
BEGIN:DAYLIGHT
TZOFFSETFROM:+0100
TZOFFSETTO:+0200
TZNAME:CEST
DTSTART:20250330T010000
END:DAYLIGHT
BEGIN:STANDARD
TZOFFSETFROM:+0200
TZOFFSETTO:+0100
TZNAME:CET
DTSTART:20251026T010000
END:STANDARD
BEGIN:DAYLIGHT
TZOFFSETFROM:+0100
TZOFFSETTO:+0200
TZNAME:CEST
DTSTART:20260329T010000
END:DAYLIGHT
BEGIN:STANDARD
TZOFFSETFROM:+0200
TZOFFSETTO:+0100
TZNAME:CET
DTSTART:20261025T010000
END:STANDARD
END:VTIMEZONE
BEGIN:VEVENT
DTSTART;VALUE=DATE:20250524
DTEND;VALUE=DATE:20250525
DTSTAMP:20260424T204023
CREATED:20250325T111926Z
LAST-MODIFIED:20250325T111926Z
UID:3985-1748044800-1748131199@oshjicin.cz
SUMMARY:Okrsková soutěž - Votuz
DESCRIPTION:okrsek Cerekvice \nod 9:00hod
URL:https://oshjicin.cz/udalost/okrskova-soutez-votuz/
END:VEVENT
BEGIN:VEVENT
DTSTART;VALUE=DATE:20250525
DTEND;VALUE=DATE:20250526
DTSTAMP:20260424T204023
CREATED:20240131T101459Z
LAST-MODIFIED:20250109T102511Z
UID:2894-1748131200-1748217599@oshjicin.cz
SUMMARY:Okresní kolo Dorostu
DESCRIPTION:Radim \nkategorie dorostu
URL:https://oshjicin.cz/udalost/okresni-kolo-dorostu/
END:VEVENT
BEGIN:VEVENT
DTSTART;TZID=Europe/Prague:20250528T170000
DTEND;TZID=Europe/Prague:20250528T180000
DTSTAMP:20260424T204023
CREATED:20250522T073922Z
LAST-MODIFIED:20250522T073922Z
UID:4079-1748451600-1748455200@oshjicin.cz
SUMMARY:Porada OK PS
DESCRIPTION:na HZS Jičín od 17:00 hod \npro velitele/velitelky postupujících družstev
URL:https://oshjicin.cz/udalost/porada-ok-ps/
END:VEVENT
BEGIN:VEVENT
DTSTART;VALUE=DATE:20250601
DTEND;VALUE=DATE:20250602
DTSTAMP:20260424T204023
CREATED:20240201T084144Z
LAST-MODIFIED:20250109T102351Z
UID:2940-1748736000-1748822399@oshjicin.cz
SUMMARY:Okresní kolo PS
DESCRIPTION:stadion Nová Paka \npravidla PS \nkategorie: muži\, ženy\, eterání \nPÚ\, štafeta 4x100m\, 100m s překážkami
URL:https://oshjicin.cz/udalost/okresni-kolo-ps/
END:VEVENT
BEGIN:VEVENT
DTSTART;TZID=Europe/Prague:20250606T080000
DTEND;TZID=Europe/Prague:20250607T170000
DTSTAMP:20260424T204023
CREATED:20250109T103011Z
LAST-MODIFIED:20250109T103011Z
UID:3781-1749196800-1749315600@oshjicin.cz
SUMMARY:Slavnosti Litoměřice
DESCRIPTION:
URL:https://oshjicin.cz/udalost/slavnosti-litomerice/
END:VEVENT
BEGIN:VEVENT
DTSTART;TZID=Europe/Prague:20250607T000000
DTEND;TZID=Europe/Prague:20250608T235900
DTSTAMP:20260424T204023
CREATED:20240223T100604Z
LAST-MODIFIED:20250529T120434Z
UID:3157-1749254400-1749427140@oshjicin.cz
SUMMARY:Krajské kolo Plamen a dorost  - Dvůr Králové
DESCRIPTION:
URL:https://oshjicin.cz/udalost/krajske-kolo-plamen-nachod/
END:VEVENT
BEGIN:VEVENT
DTSTART;TZID=Europe/Prague:20250607T190000
DTEND;TZID=Europe/Prague:20250607T233000
DTSTAMP:20260424T204023
CREATED:20250408T052902Z
LAST-MODIFIED:20250408T052902Z
UID:4009-1749322800-1749339000@oshjicin.cz
SUMMARY:Noční soutěž Kozojedy
DESCRIPTION:v PÚ \nMUŽI A ŽENY
URL:https://oshjicin.cz/udalost/nocni-soutez-kozojedy/
END:VEVENT
BEGIN:VEVENT
DTSTART;TZID=Europe/Prague:20250614T090000
DTEND;TZID=Europe/Prague:20250614T170000
DTSTAMP:20260424T204023
CREATED:20240223T100914Z
LAST-MODIFIED:20250109T101913Z
UID:3161-1749891600-1749920400@oshjicin.cz
SUMMARY:Krajské kolo PS
DESCRIPTION:stadion  Náchod
URL:https://oshjicin.cz/udalost/krajske-kolo-ps/
END:VEVENT
BEGIN:VEVENT
DTSTART;TZID=Europe/Prague:20250614T130000
DTEND;TZID=Europe/Prague:20250614T130000
DTSTAMP:20260424T204023
CREATED:20250527T093528Z
LAST-MODIFIED:20250527T093528Z
UID:4105-1749906000-1749906000@oshjicin.cz
SUMMARY:Oslavy 100 let výročí SDH Česká Proseč-Štěpanice
DESCRIPTION:
URL:https://oshjicin.cz/udalost/oslavy-100-let-vyroci-sdh-ceska-prosec-stepanice/
END:VEVENT
BEGIN:VEVENT
DTSTART;TZID=Europe/Prague:20250614T130000
DTEND;TZID=Europe/Prague:20250614T233000
DTSTAMP:20260424T204023
CREATED:20250605T064356Z
LAST-MODIFIED:20250605T064356Z
UID:4127-1749906000-1749943800@oshjicin.cz
SUMMARY:SDH Železnice slaví 140 let
DESCRIPTION:Železnice
URL:https://oshjicin.cz/udalost/sdh-zeleznice-slavi-140-let/
END:VEVENT
BEGIN:VEVENT
DTSTART;VALUE=DATE:20250621
DTEND;VALUE=DATE:20250622
DTSTAMP:20260424T204023
CREATED:20250605T064103Z
LAST-MODIFIED:20250605T064154Z
UID:4122-1750464000-1750550399@oshjicin.cz
SUMMARY:Hasičské oslavy Nová Paka
DESCRIPTION:Nová Paka
URL:https://oshjicin.cz/udalost/hasicske-oslany-nova-paka/
END:VEVENT
BEGIN:VEVENT
DTSTART;TZID=Europe/Prague:20250621T120000
DTEND;TZID=Europe/Prague:20250622T020000
DTSTAMP:20260424T204023
CREATED:20250409T101648Z
LAST-MODIFIED:20250605T063935Z
UID:4011-1750507200-1750557600@oshjicin.cz
SUMMARY:Oslavy 140 let výročí SDH Ostroměř
DESCRIPTION:Ostroměř
URL:https://oshjicin.cz/udalost/oslavy-140-let-vyroci-sdh-ostromer/
END:VEVENT
BEGIN:VEVENT
DTSTART;TZID=Europe/Prague:20250629T080000
DTEND;TZID=Europe/Prague:20250629T170000
DTSTAMP:20260424T204023
CREATED:20240223T101003Z
LAST-MODIFIED:20250109T101157Z
UID:3163-1751184000-1751216400@oshjicin.cz
SUMMARY:Krajské kolo TFA - Žernov
DESCRIPTION:
URL:https://oshjicin.cz/udalost/krajske-kolo-tfa-zernov/
END:VEVENT
BEGIN:VEVENT
DTSTART;TZID=Europe/Prague:20250802T170000
DTEND;TZID=Europe/Prague:20250803T233000
DTSTAMP:20260424T204023
CREATED:20250717T111847Z
LAST-MODIFIED:20250717T111847Z
UID:4188-1754154000-1754263800@oshjicin.cz
SUMMARY:Pouťová Kacanda
DESCRIPTION:Načítání...\n						\n					\n					\n						\n							\n							Trvá to moc dlouho?\n						\n						\n							\n								 Načíst dokument znovu							\n							|\n							\n								 Otevřít v nové kartě							\n					\n				\n			\n		Stáhnout
URL:https://oshjicin.cz/udalost/poutova-kacanda/
END:VEVENT
BEGIN:VEVENT
DTSTART;TZID=Europe/Prague:20250830T080000
DTEND;TZID=Europe/Prague:20250830T170000
DTSTAMP:20260424T204023
CREATED:20240209T115958Z
LAST-MODIFIED:20250109T102909Z
UID:3018-1756540800-1756573200@oshjicin.cz
SUMMARY:Brosdké klání
DESCRIPTION:Brodek \nmístní pravidla \nkategorie: MUŽI\, ŽENY
URL:https://oshjicin.cz/udalost/detska-soutez-nocni/
END:VEVENT
BEGIN:VEVENT
DTSTART;TZID=Europe/Prague:20250830T080000
DTEND;TZID=Europe/Prague:20250830T170000
DTSTAMP:20260424T204023
CREATED:20250203T100316Z
LAST-MODIFIED:20250203T100316Z
UID:3864-1756540800-1756573200@oshjicin.cz
SUMMARY:Noční soutěž - Sezemice
DESCRIPTION:soutěž pouze v požárním útoku pro kategorie přípravka\, mladší a starší děti
URL:https://oshjicin.cz/udalost/nocni-soutez-sezemice/
END:VEVENT
BEGIN:VEVENT
DTSTART;TZID=Europe/Prague:20250906T150000
DTEND;TZID=Europe/Prague:20250906T150000
DTSTAMP:20260424T204023
CREATED:20250701T090432Z
LAST-MODIFIED:20250701T090432Z
UID:4175-1757170800-1757170800@oshjicin.cz
SUMMARY:145 let SDH Lázně Bělohrad
DESCRIPTION:Lázně Bělohrad
URL:https://oshjicin.cz/udalost/145-let-sdh-lazne-belohrad/
END:VEVENT
BEGIN:VEVENT
DTSTART;TZID=Europe/Prague:20250913T080000
DTEND;TZID=Europe/Prague:20250913T180000
DTSTAMP:20260424T204023
CREATED:20250904T062718Z
LAST-MODIFIED:20250904T062718Z
UID:4273-1757750400-1757786400@oshjicin.cz
SUMMARY:MČR ve vyprošťování
DESCRIPTION:2025_08_05-HZS_JHC_Propozice_MCR_VDN_2025
URL:https://oshjicin.cz/udalost/mcr-ve-vyprostovani/
END:VEVENT
BEGIN:VEVENT
DTSTART;TZID=Europe/Prague:20250920T090000
DTEND;TZID=Europe/Prague:20250920T170000
DTSTAMP:20260424T204023
CREATED:20240201T105012Z
LAST-MODIFIED:20250827T070622Z
UID:2989-1758358800-1758387600@oshjicin.cz
SUMMARY:Úlibický koláč
DESCRIPTION:Úlibice \nupravená pravidla \nkategorie.muži\, ženy \nplakát Úlibice \nprihlaska_ulibicky_kolac \n 
URL:https://oshjicin.cz/udalost/ulibicky-kolac-3/
END:VEVENT
BEGIN:VEVENT
DTSTART;TZID=Europe/Prague:20250927T080000
DTEND;TZID=Europe/Prague:20250927T170000
DTSTAMP:20260424T204023
CREATED:20240223T101056Z
LAST-MODIFIED:20250915T075031Z
UID:3165-1758960000-1758992400@oshjicin.cz
SUMMARY:Mistrovství ČR CTIF
DESCRIPTION:Nová Paka \nhttps://sport.dh.cz/index.php/klasicke-discipliny-ctif/mcr-v-disciplinach-ctif/808-mcr-ctif-2025 \nCTIF \n 
URL:https://oshjicin.cz/udalost/mistrovstvi-cr-ct/
END:VEVENT
BEGIN:VEVENT
DTSTART;TZID=Europe/Prague:20251019T080000
DTEND;TZID=Europe/Prague:20251019T150000
DTSTAMP:20260424T204023
CREATED:20250929T104619Z
LAST-MODIFIED:20250929T104619Z
UID:4331-1760860800-1760886000@oshjicin.cz
SUMMARY:ZHVB
DESCRIPTION:Radim \nkategotie: mladší\, starší\, dorost
URL:https://oshjicin.cz/udalost/zhvb/
END:VEVENT
BEGIN:VEVENT
DTSTART;TZID=Europe/Prague:20251031T160000
DTEND;TZID=Europe/Prague:20251101T230000
DTSTAMP:20260424T204023
CREATED:20251023T145530Z
LAST-MODIFIED:20251023T145732Z
UID:4382-1761926400-1762038000@oshjicin.cz
SUMMARY:Školení vedoucích mládeže
DESCRIPTION:Kněžnice
URL:https://oshjicin.cz/udalost/skoleni-vedoucich-mladeze/
END:VEVENT
BEGIN:VEVENT
DTSTART;TZID=Europe/Prague:20251109T080000
DTEND;TZID=Europe/Prague:20251109T170000
DTSTAMP:20260424T204023
CREATED:20251106T060350Z
LAST-MODIFIED:20251106T060350Z
UID:4405-1762675200-1762707600@oshjicin.cz
SUMMARY:KK ZHVB
DESCRIPTION:místo konání: Bílé Poličany \n  \n 
URL:https://oshjicin.cz/udalost/kk-zhvb/
END:VEVENT
BEGIN:VEVENT
DTSTART;TZID=Europe/Prague:20251115T090000
DTEND;TZID=Europe/Prague:20251115T090000
DTSTAMP:20260424T204023
CREATED:20251003T103658Z
LAST-MODIFIED:20251003T103658Z
UID:4339-1763197200-1763197200@oshjicin.cz
SUMMARY:Shromáždění starostů SDH\, Mlázovice
DESCRIPTION:
URL:https://oshjicin.cz/udalost/shromazdeni-starostu-sdh-mlazovice/
END:VEVENT
BEGIN:VEVENT
DTSTART;VALUE=DATE:20251230
DTEND;VALUE=DATE:20251231
DTSTAMP:20260424T204023
CREATED:20251118T115037Z
LAST-MODIFIED:20251120T120807Z
UID:4450-1767052800-1767139199@oshjicin.cz
SUMMARY:NAHLÁŠENÍ SPORTOVCŮ
DESCRIPTION:
URL:https://oshjicin.cz/udalost/nahlaseni-sportovcu/
END:VEVENT
BEGIN:VEVENT
DTSTART;VALUE=DATE:20260216
DTEND;VALUE=DATE:20260217
DTSTAMP:20260424T204023
CREATED:20251118T114906Z
LAST-MODIFIED:20251118T114906Z
UID:4446-1771200000-1771286399@oshjicin.cz
SUMMARY:NEJPOZDĚJŠÍ ODEVZDÁNÍ HLÁŠENÍ
DESCRIPTION:
URL:https://oshjicin.cz/udalost/nejpozdejsi-odevzdani-hlaseni-2/
END:VEVENT
BEGIN:VEVENT
DTSTART;VALUE=DATE:20260216
DTEND;VALUE=DATE:20260217
DTSTAMP:20260424T204023
CREATED:20251118T114943Z
LAST-MODIFIED:20251118T114943Z
UID:4448-1771200000-1771286399@oshjicin.cz
SUMMARY:NEJPOZDĚJŠÍ ODEVZDÁNÍ ZPRÁVY z VH SDH
DESCRIPTION:
URL:https://oshjicin.cz/udalost/nejpozdejsi-odevzdani-zpravy-z-vh-sdh/
END:VEVENT
BEGIN:VEVENT
DTSTART;VALUE=DATE:20260228
DTEND;VALUE=DATE:20260301
DTSTAMP:20260424T204023
CREATED:20251118T114636Z
LAST-MODIFIED:20251118T114818Z
UID:4441-1772236800-1772323199@oshjicin.cz
SUMMARY:NEJPOZDĚJŠÍ ODEVZDÁNÍ ZPRÁVY z VH okrsků
DESCRIPTION:
URL:https://oshjicin.cz/udalost/nejpozdejsi-odevzdani-hlaseni/
END:VEVENT
BEGIN:VEVENT
DTSTART;TZID=Europe/Prague:20260307T083000
DTEND;TZID=Europe/Prague:20260307T120000
DTSTAMP:20260424T204023
CREATED:20260225T132305Z
LAST-MODIFIED:20260225T132305Z
UID:4639-1772872200-1772884800@oshjicin.cz
SUMMARY:Školení preventistů SDH
DESCRIPTION:v zasedací místnosti HZS Jičín požární stanice\, Dělnická 162 \nPozvánka na školení PRE 2026
URL:https://oshjicin.cz/udalost/skoleni-preventistu-sdh/
END:VEVENT
BEGIN:VEVENT
DTSTART;TZID=Europe/Prague:20260308T080000
DTEND;TZID=Europe/Prague:20260308T170000
DTSTAMP:20260424T204023
CREATED:20260219T095525Z
LAST-MODIFIED:20260219T095704Z
UID:4608-1772956800-1772989200@oshjicin.cz
SUMMARY:školení pro „NOVÉ VEDOUCÍ MLÁDEŽE“
DESCRIPTION:školení pro „NOVÉ VEDOUCÍ MLÁDEŽE“\, které se uskuteční v neděli 8.3.2026 v Jičíně na zasedací místnosti HZS. \nProsíme zájemce o nahlášení účasti\, abychom měli možnost zajistit potřebný počet podkladů a oběd. \nŠkolení je určeno opravdu pro začátečníky a budou předávány základní informace k vedení kolektivu. \nPředem Vám děkuji a budeme se těšit na Vaši účast. \nRomana Steinerová\nvedoucí ORM OSH Jičín\n602 134 400 \nPozvánka+8.3.2026+Jičín
URL:https://oshjicin.cz/udalost/skoleni-pro-nove-vedouci-mladeze/
END:VEVENT
END:VCALENDAR