BEGIN:VCALENDAR
VERSION:2.0
PRODID:-//Okresní sdružení hasičů Jičín - ECPv6.3.2//NONSGML v1.0//EN
CALSCALE:GREGORIAN
METHOD:PUBLISH
X-ORIGINAL-URL:https://oshjicin.cz
X-WR-CALDESC:Akce na Okresní sdružení hasičů Jičín
REFRESH-INTERVAL;VALUE=DURATION:PT1H
X-Robots-Tag:noindex
X-PUBLISHED-TTL:PT1H
BEGIN:VTIMEZONE
TZID:Europe/Prague
BEGIN:DAYLIGHT
TZOFFSETFROM:+0100
TZOFFSETTO:+0200
TZNAME:CEST
DTSTART:20260329T010000
END:DAYLIGHT
BEGIN:STANDARD
TZOFFSETFROM:+0200
TZOFFSETTO:+0100
TZNAME:CET
DTSTART:20261025T010000
END:STANDARD
END:VTIMEZONE
BEGIN:VEVENT
DTSTART;TZID=Europe/Prague:20260713T080000
DTEND;TZID=Europe/Prague:20260718T170000
DTSTAMP:20260422T162234
CREATED:20260413T100737Z
LAST-MODIFIED:20260413T100737Z
UID:4813-1783929600-1784394000@oshjicin.cz
SUMMARY:Mistrovství světa - CTIF MH  Šumperk
DESCRIPTION:
URL:https://oshjicin.cz/udalost/mistrovstvi-sveta-ctif-mh-sumperk/
END:VEVENT
BEGIN:VEVENT
DTSTART;TZID=Europe/Prague:20260718T130000
DTEND;TZID=Europe/Prague:20260718T233000
DTSTAMP:20260422T162234
CREATED:20260413T103834Z
LAST-MODIFIED:20260413T103905Z
UID:4829-1784379600-1784417400@oshjicin.cz
SUMMARY:Oslavy 130let SDH Vrchovina
DESCRIPTION:Načítání...\n						\n					\n					\n						\n							\n							Trvá to moc dlouho?\n						\n						\n							\n								 Načíst dokument znovu							\n							|\n							\n								 Otevřít v nové kartě							\n					\n				\n			\n		Stáhnout
URL:https://oshjicin.cz/udalost/oslavy-130let-sdh-vrchovina/
END:VEVENT
BEGIN:VEVENT
DTSTART;TZID=Europe/Prague:20260817T080000
DTEND;TZID=Europe/Prague:20260823T170000
DTSTAMP:20260422T162234
CREATED:20260413T101040Z
LAST-MODIFIED:20260413T101040Z
UID:4819-1786953600-1787504400@oshjicin.cz
SUMMARY:Mistrovství Evropy PS\, Ostrava
DESCRIPTION:
URL:https://oshjicin.cz/udalost/mistrovstvi-evropy-ps-ostrava/
END:VEVENT
BEGIN:VEVENT
DTSTART;TZID=Europe/Prague:20260822T090000
DTEND;TZID=Europe/Prague:20260822T173000
DTSTAMP:20260422T162234
CREATED:20240201T102343Z
LAST-MODIFIED:20260113T075225Z
UID:2964-1787389200-1787419800@oshjicin.cz
SUMMARY:Memoriál Broňka Balouška
DESCRIPTION:Žeretice \nupravená pravidla \nkategorie: muži\, ženy \n			\n				\n					\n						\n							\n							Načítání...\n						\n					\n					\n						\n							\n							Trvá to moc dlouho?\n						\n						\n							\n								 Načíst dokument znovu							\n							|\n							\n								 Otevřít v nové kartě							\n					\n				\n			\n		Stáhnout
URL:https://oshjicin.cz/udalost/memorial-bronka-balouska/
END:VEVENT
BEGIN:VEVENT
DTSTART;VALUE=DATE:20260829
DTEND;VALUE=DATE:20260830
DTSTAMP:20260422T162234
CREATED:20250109T093929Z
LAST-MODIFIED:20260413T055217Z
UID:3762-1787961600-1788047999@oshjicin.cz
SUMMARY:Pohárová soutěž Třebovětice
DESCRIPTION:O pohár starosty OSH \nsoutěž v požárním útoku na 2B \nkategorie: muži\, ženy\, veteráni \nzačátek v 9:00 hod
URL:https://oshjicin.cz/udalost/poharova-soutez-trebovetice-2/
END:VEVENT
BEGIN:VEVENT
DTSTART;TZID=Europe/Prague:20260829T080000
DTEND;TZID=Europe/Prague:20260829T170000
DTSTAMP:20260422T162234
CREATED:20250203T095931Z
LAST-MODIFIED:20260209T122230Z
UID:3856-1787990400-1788022800@oshjicin.cz
SUMMARY:Dětský superpohár - Boseň
DESCRIPTION:soutěž je pořádaná v samotné požárním útoku a jednoduché štafetě \nsoutěž je vyhlášena ve všech dětských kategoriích\, tedy pro Přípravku\, Mladší a Starší děti. \nVýsledky jednotlivých soutěží jsou započítávány do celkového pořadí a na poslední soutěži jsou i vyhlášeny celkové výsledky za celý ročník DS.
URL:https://oshjicin.cz/udalost/detsky-superpohar-sezemice/
END:VEVENT
BEGIN:VEVENT
DTSTART;TZID=Europe/Prague:20260829T080000
DTEND;TZID=Europe/Prague:20260829T170000
DTSTAMP:20260422T162234
CREATED:20260413T100846Z
LAST-MODIFIED:20260413T100846Z
UID:4815-1787990400-1788022800@oshjicin.cz
SUMMARY:Mistrovství světa - výstup na věž dorost\, Výrovice
DESCRIPTION:
URL:https://oshjicin.cz/udalost/mistrovstvi-sveta-vystup-na-vez-dorost-vyrovice/
END:VEVENT
BEGIN:VEVENT
DTSTART;TZID=Europe/Prague:20260903T080000
DTEND;TZID=Europe/Prague:20260906T170000
DTSTAMP:20260422T162234
CREATED:20260413T100629Z
LAST-MODIFIED:20260413T100629Z
UID:4811-1788422400-1788714000@oshjicin.cz
SUMMARY:Mistrovství ČR PS - Hradec Králové
DESCRIPTION:
URL:https://oshjicin.cz/udalost/mistrovstvi-cr-ps-hradec-kralove/
END:VEVENT
BEGIN:VEVENT
DTSTART;VALUE=DATE:20260905
DTEND;VALUE=DATE:20260906
DTSTAMP:20260422T162234
CREATED:20250109T092642Z
LAST-MODIFIED:20260113T075041Z
UID:3753-1788566400-1788652799@oshjicin.cz
SUMMARY:Pohárová soutěž - Nemyčeves
DESCRIPTION:O pohár starosty OSH \nsoutěž v požárním útoku na 2B \nkategorie: muži\, ženy\, veteráni \nzačátek v 9:00 hod
URL:https://oshjicin.cz/udalost/o-pohar-starosty-osh-jicin-nemyceves/
END:VEVENT
BEGIN:VEVENT
DTSTART;VALUE=DATE:20260905
DTEND;VALUE=DATE:20260906
DTSTAMP:20260422T162234
CREATED:20260413T102648Z
LAST-MODIFIED:20260413T102648Z
UID:4822-1788566400-1788652799@oshjicin.cz
SUMMARY:Oslavy 90let SDH Bílsko u Hořic
DESCRIPTION:
URL:https://oshjicin.cz/udalost/oslavy-90let-sdh-bilsko-u-horic/
END:VEVENT
BEGIN:VEVENT
DTSTART;TZID=Europe/Prague:20260905T080000
DTEND;TZID=Europe/Prague:20260905T170000
DTSTAMP:20260422T162234
CREATED:20250203T100004Z
LAST-MODIFIED:20260209T122255Z
UID:3858-1788595200-1788627600@oshjicin.cz
SUMMARY:Dětský super pohár - Jeřmanice
DESCRIPTION:soutěž je pořádaná v samotné požárním útoku a jednoduché štafetě \nsoutěž je vyhlášena ve všech dětských kategoriích\, tedy pro Přípravku\, Mladší a Starší děti. \nVýsledky jednotlivých soutěží jsou započítávány do celkového pořadí a na poslední soutěži jsou i vyhlášeny celkové výsledky za celý ročník DS. \n 
URL:https://oshjicin.cz/udalost/detsky-super-pohar-jermanice/
END:VEVENT
BEGIN:VEVENT
DTSTART;TZID=Europe/Prague:20260905T090000
DTEND;TZID=Europe/Prague:20260905T170000
DTSTAMP:20260422T162234
CREATED:20240201T104027Z
LAST-MODIFIED:20260113T074926Z
UID:2978-1788598800-1788627600@oshjicin.cz
SUMMARY:Místní soutěž Bílsko u Hořic
DESCRIPTION:Bílsko u Hořic \nupravená pravidla PS \nkategorie: muži\, ženy
URL:https://oshjicin.cz/udalost/mistni-soutez-bilsko-u-horic/
END:VEVENT
BEGIN:VEVENT
DTSTART;TZID=Europe/Prague:20260905T170000
DTEND;TZID=Europe/Prague:20260905T220000
DTSTAMP:20260422T162234
CREATED:20240201T102842Z
LAST-MODIFIED:20260113T074820Z
UID:2971-1788627600-1788645600@oshjicin.cz
SUMMARY:Noční soutěž Úbislavice
DESCRIPTION:Úbislavice \nupravená pravidla PS \npožární útoky \nkategorie. muži\, ženy
URL:https://oshjicin.cz/udalost/nocni-soutez-ubislavice-3/
END:VEVENT
BEGIN:VEVENT
DTSTART;VALUE=DATE:20260912
DTEND;VALUE=DATE:20260913
DTSTAMP:20260422T162234
CREATED:20240131T095833Z
LAST-MODIFIED:20260217T115035Z
UID:2881-1789171200-1789257599@oshjicin.cz
SUMMARY:Miletínská Troska - TFA
DESCRIPTION:
URL:https://oshjicin.cz/udalost/miletinska-troska-tfa/
END:VEVENT
BEGIN:VEVENT
DTSTART;TZID=Europe/Prague:20260912T090000
DTEND;TZID=Europe/Prague:20260912T170000
DTSTAMP:20260422T162234
CREATED:20240201T103757Z
LAST-MODIFIED:20260113T074715Z
UID:2976-1789203600-1789232400@oshjicin.cz
SUMMARY:Dětská soutěž Lužany
DESCRIPTION:Lužany \nkategorie: MH \nPÚ a štafeta dvojic \n 
URL:https://oshjicin.cz/udalost/detska-soutez-luzany-2/
END:VEVENT
BEGIN:VEVENT
DTSTART;VALUE=DATE:20260919
DTEND;VALUE=DATE:20260920
DTSTAMP:20260422T162234
CREATED:20250109T094004Z
LAST-MODIFIED:20260113T074638Z
UID:3764-1789776000-1789862399@oshjicin.cz
SUMMARY:Pohárová soutěž Valdice
DESCRIPTION:O pohár starosty OSH \nsoutěž v požárním útoku na 2B \nkategorie: muži\, ženy\, veteráni \nzačátek v 9:00 hod
URL:https://oshjicin.cz/udalost/poharova-soutez-valdice-2/
END:VEVENT
BEGIN:VEVENT
DTSTART;TZID=Europe/Prague:20260920T080000
DTEND;TZID=Europe/Prague:20260920T170000
DTSTAMP:20260422T162234
CREATED:20250203T100108Z
LAST-MODIFIED:20260209T122338Z
UID:3860-1789891200-1789923600@oshjicin.cz
SUMMARY:Dětský superpohár - Olešnice
DESCRIPTION:soutěž bude pořádána v areálu SDH Žehrov \nsoutěž je pořádaná v samotné požárním útoku a jednoduché štafetě \nsoutěž je vyhlášena ve všech dětských kategoriích\, tedy pro Přípravku\, Mladší a Starší děti. \nVýsledky jednotlivých soutěží jsou započítávány do celkového pořadí a na poslední soutěži jsou i vyhlášeny celkové výsledky za celý ročník DS. \n 
URL:https://oshjicin.cz/udalost/detsky-superpohar-olesnice/
END:VEVENT
BEGIN:VEVENT
DTSTART;TZID=Europe/Prague:20260927T080000
DTEND;TZID=Europe/Prague:20260927T170000
DTSTAMP:20260422T162234
CREATED:20260413T101001Z
LAST-MODIFIED:20260413T101001Z
UID:4817-1790496000-1790528400@oshjicin.cz
SUMMARY:Mistrovství ČR CTIF - Velké Meziříčí
DESCRIPTION:
URL:https://oshjicin.cz/udalost/mistrovstvi-cr-ctif-velke-mezirici/
END:VEVENT
BEGIN:VEVENT
DTSTART;TZID=Europe/Prague:20261107T080000
DTEND;TZID=Europe/Prague:20261107T170000
DTSTAMP:20260422T162234
CREATED:20240903T063946Z
LAST-MODIFIED:20260113T075013Z
UID:3530-1794038400-1794070800@oshjicin.cz
SUMMARY:Halová soutěž - Miletín (hala Hořice)
DESCRIPTION:  \n 
URL:https://oshjicin.cz/udalost/halova-soutez-miletin-hala-horice/
END:VEVENT
END:VCALENDAR